BEGIN:VCALENDAR
VERSION:2.0
PRODID:-//SPACE21 - ECPv6.15.20//NONSGML v1.0//EN
CALSCALE:GREGORIAN
METHOD:PUBLISH
X-WR-CALNAME:SPACE21
X-ORIGINAL-URL:https://space21.org
X-WR-CALDESC:Events for SPACE21
REFRESH-INTERVAL;VALUE=DURATION:PT1H
X-Robots-Tag:noindex
X-PUBLISHED-TTL:PT1H
BEGIN:VTIMEZONE
TZID:Asia/Baghdad
BEGIN:STANDARD
TZOFFSETFROM:+0300
TZOFFSETTO:+0300
TZNAME:+03
DTSTART:20250101T000000
END:STANDARD
END:VTIMEZONE
BEGIN:VEVENT
DTSTART;TZID=Asia/Baghdad:20260410T200000
DTEND;TZID=Asia/Baghdad:20260410T210000
DTSTAMP:20260420T223630
CREATED:20260122T122049Z
LAST-MODIFIED:20260224T150005Z
UID:7625-1775851200-1775854800@space21.org
SUMMARY:Maryam Al-Adra
DESCRIPTION:The Maryam of Virgin Church\, one of the oldest surviving houses in Slemani. This historic church is not only a testament to the city’s architectural heritage but also a living archive of collective memory. Its ancient stone walls and vaulted ceilings create a unique acoustic environment\, where even the softest sounds linger and resonate\, inviting deep listening. Within these walls\, generations have gathered for worship\, reflection\, and community\, filling the space with music\, prayer\, and shared stories. The church’s distinctive acoustics preserve these sonic traces\, making every footstep\, whispered prayer\, and song part of a layered tapestry of memory. For visitors and the local community alike\, experiencing sound in this space is an act of connecting with the past—where place and memory are brought to life through listening. Maryam of Virgin Church stands as a powerful reminder of how architecture shapes not only what we see\, but also what we hear and remember. In honouring its soundscape\, we honour the enduring spirit and history of Slemani itself.
URL:https://space21.org/event/maryam-al-adra/
LOCATION:The Mariam Al Adra\, Maryam of virgin Church کەنیسەی مەریەمی عەزراء\, Sulaymaniyah Governorate\, Kurdistan Region\, 46001\, Iraq
CATEGORIES:Performance
ATTACH;FMTTYPE=image/jpeg:https://space21.org/wp-content/uploads/slider2/S21F8.jpeg
ORGANIZER;CN="SPACE21":MAILTO:info@space21.org
END:VEVENT
BEGIN:VEVENT
DTSTART;TZID=Asia/Baghdad:20260410T110000
DTEND;TZID=Asia/Baghdad:20260410T180000
DTSTAMP:20260420T223630
CREATED:20260224T144524Z
LAST-MODIFIED:20260224T144524Z
UID:9109-1775818800-1775844000@space21.org
SUMMARY:SPACE21 Sound Gallery
DESCRIPTION:SPACE21 Sound Gallery is housed on the second floor of the historic Yellow Building in the old tobacco factory in Slemani. Abandoned after the Kurdish revolution in 1991\, the factory has been reborn as a vibrant cultural hub—a “culture factory”—for the city’s creative makers. The gallery’s hall still holds the scent and spirit of its sonic past\, echoing the labour and stories of those who once worked there\, including the father of SPACE21 founder Hardi Kurda. Stepping into the hall is like entering a living tobacco factory museum\, where the original machines remain as silent witnesses to a bygone era. Today\, instead of producing tobacco\, the space invites listeners and artists to collaborate in the creation of sound. The hall’s resonance calls everyone back to collective work\, transforming industrial memory into an artistic experience—where the sounds of the past inspire new sonic futures
URL:https://space21.org/event/space21-sound-gallery-4/
LOCATION:SPACE21 Sound Gallery\, Culture Factory\, Salim Street\, Sulaymaniyah Governorate\, Kurdistan Region\, 46001\, Iraq
CATEGORIES:Community
ORGANIZER;CN="SPACE21":MAILTO:info@space21.org
END:VEVENT
BEGIN:VEVENT
DTSTART;TZID=Asia/Baghdad:20260409T200000
DTEND;TZID=Asia/Baghdad:20260409T210000
DTSTAMP:20260420T223630
CREATED:20260122T123404Z
LAST-MODIFIED:20260224T150018Z
UID:7630-1775764800-1775768400@space21.org
SUMMARY:Paia Studio
DESCRIPTION:Paia Studio is uniquely located in a former public swimming pool\, now transformed into a vibrant creative studio hosting a range of cultural activities. This year\, SPACE21 has chosen Paia Studio as one of its new festival venues\, recognising its distinctive atmosphere and creative potential. The venue’s striking blend of past and present—echoes of water and play now giving way to artistic exploration—offers a compelling backdrop for innovative cultural expression. For the festival\, SPACE21 will present a live performance specially designed to resonate with Paia Studio’s character. The performance will draw on the site’s history as a communal gathering place\, exploring themes of transformation\, memory\, and renewal. By activating this repurposed space through sound and movement\, the festival aims to celebrate both the legacy and the new creative energy of Paia Studio\, inviting audiences to experience the poetry of place in a truly immersive way.
URL:https://space21.org/event/paia-studio/
LOCATION:Paia Studio\, PAIA studio\, Sarchinar Road\, Sulaymaniyah Governorate\, Kurdistan Region\, 46001\, Iraq
CATEGORIES:Performance
ATTACH;FMTTYPE=image/png:https://space21.org/wp-content/uploads/2026/01/PaiaStudio.png
ORGANIZER;CN="SPACE21":MAILTO:info@space21.org
END:VEVENT
BEGIN:VEVENT
DTSTART;TZID=Asia/Baghdad:20260409T110000
DTEND;TZID=Asia/Baghdad:20260409T140000
DTSTAMP:20260420T223630
CREATED:20260224T145811Z
LAST-MODIFIED:20260224T145811Z
UID:9116-1775732400-1775743200@space21.org
SUMMARY:University of Sulaimani
DESCRIPTION:SPACE21 presents Slemani Sonic Horizon\, a three-day conference in collaboration with the University of Sulaimani. As part of the festival’s 10th edition\, the conference features talks and panels on the city’s sonic culture. A highlight is the Engaging the Next Generation session\, sharing the design and outcomes of SPACE21 Youth Workshops that empower young people to create\, listen\, and perform. The event will explore inclusive pedagogy\, sustainability\, and youth participation in shaping Slemani’s sonic landscape
URL:https://space21.org/event/university-of-sulaimani-3/
LOCATION:SPACE21 Sound Gallery\, Culture Factory\, Salim Street\, Sulaymaniyah Governorate\, Kurdistan Region\, 46001\, Iraq
CATEGORIES:Conference
ORGANIZER;CN="SPACE21":MAILTO:info@space21.org
END:VEVENT
BEGIN:VEVENT
DTSTART;TZID=Asia/Baghdad:20260408T200000
DTEND;TZID=Asia/Baghdad:20260408T210000
DTSTAMP:20260420T223630
CREATED:20260224T144244Z
LAST-MODIFIED:20260224T150030Z
UID:9107-1775678400-1775682000@space21.org
SUMMARY:SPACE21 Sound Gallery
DESCRIPTION:SPACE21 Sound Gallery is housed on the second floor of the historic Yellow Building in the old tobacco factory in Slemani. Abandoned after the Kurdish revolution in 1991\, the factory has been reborn as a vibrant cultural hub—a “culture factory”—for the city’s creative makers. The gallery’s hall still holds the scent and spirit of its sonic past\, echoing the labour and stories of those who once worked there\, including the father of SPACE21 founder Hardi Kurda. Stepping into the hall is like entering a living tobacco factory museum\, where the original machines remain as silent witnesses to a bygone era. Today\, instead of producing tobacco\, the space invites listeners and artists to collaborate in the creation of sound. The hall’s resonance calls everyone back to collective work\, transforming industrial memory into an artistic experience—where the sounds of the past inspire new sonic futures
URL:https://space21.org/event/space21-sound-gallery-3/
LOCATION:Kurdistan Region
CATEGORIES:Performance
END:VEVENT
BEGIN:VEVENT
DTSTART;TZID=Asia/Baghdad:20260408T110000
DTEND;TZID=Asia/Baghdad:20260408T140000
DTSTAMP:20260420T223630
CREATED:20260224T145732Z
LAST-MODIFIED:20260224T145732Z
UID:9114-1775646000-1775656800@space21.org
SUMMARY:University of Sulaimani
DESCRIPTION:SPACE21 presents Slemani Sonic Horizon\, a three-day conference in collaboration with the University of Sulaimani. As part of the festival’s 10th edition\, the conference features talks and panels on the city’s sonic culture. A highlight is the Engaging the Next Generation session\, sharing the design and outcomes of SPACE21 Youth Workshops that empower young people to create\, listen\, and perform. The event will explore inclusive pedagogy\, sustainability\, and youth participation in shaping Slemani’s sonic landscape
URL:https://space21.org/event/university-of-sulaimani-2/
LOCATION:SPACE21 Sound Gallery\, Culture Factory\, Salim Street\, Sulaymaniyah Governorate\, Kurdistan Region\, 46001\, Iraq
CATEGORIES:Conference
ORGANIZER;CN="SPACE21":MAILTO:info@space21.org
END:VEVENT
BEGIN:VEVENT
DTSTART;TZID=Asia/Baghdad:20260407T180000
DTEND;TZID=Asia/Baghdad:20260407T200000
DTSTAMP:20260420T223630
CREATED:20251231T160930Z
LAST-MODIFIED:20260224T150113Z
UID:6211-1775584800-1775592000@space21.org
SUMMARY:Buss Tour
DESCRIPTION:Buss Tour – A collective radio listening experience aboard a city bus tour. Transforming the bus into a moving exhibition space\, participants will tune in to the radio-frequency landscape that has long shaped the social memory of Kurdistan’s cities. Through curated broadcasts—news snippets\, songs of liberation\, and voices from the past—the tour revives the unique atmosphere of communal listening that once defined daily life on Kurdish buses. Historically\, buses were much more than transport; they were vibrant social spaces where people exchanged stories\, shared news\, and looked out for one another. With economic development\, this bus culture has faded\, and the communal act of listening has lost its place in urban life. By gathering on the bus to listen together\, the event rekindles a sense of collective care and attention\, reminding us of the importance of shared listening in fostering unity and understanding—especially in times when the Kurdish community needs to come together as one voice and one ear. This radio listening tour invites participants to rediscover the power of listening and reclaim public space for cultural connection and reflection
URL:https://space21.org/event/buss-tour/
LOCATION:Sarchnar bus station\, Sarchnar bus station\, Sulaymaniyah\, Sulaymaniyah Governorate\, Kurdistan Region\, 46001\, Iraq
CATEGORIES:Radio
ATTACH;FMTTYPE=image/jpeg:https://space21.org/wp-content/uploads/2026/01/SPACE21-Radio-Bus-Workshop-25_Photo-by-Emptyblue-scaled.jpg
ORGANIZER;CN="SPACE21":MAILTO:info@space21.org
END:VEVENT
BEGIN:VEVENT
DTSTART;TZID=Asia/Baghdad:20260407T110000
DTEND;TZID=Asia/Baghdad:20260409T140000
DTSTAMP:20260420T223630
CREATED:20260122T162125Z
LAST-MODIFIED:20260224T143511Z
UID:7670-1775559600-1775743200@space21.org
SUMMARY:University of Sulaimani
DESCRIPTION:SPACE21 presents Slemani Sonic Horizon\, a three-day conference in collaboration with the University of Sulaimani. As part of the festival’s 10th edition\, the conference features talks and panels on the city’s sonic culture. A highlight is the Engaging the Next Generation session\, sharing the design and outcomes of SPACE21 Youth Workshops that empower young people to create\, listen\, and perform. The event will explore inclusive pedagogy\, sustainability\, and youth participation in shaping Slemani’s sonic landscape
URL:https://space21.org/event/university-of-sulaimani/
LOCATION:University of Sulaimani\, University of Sulaimani\, Sulaymaniyah Governorate\, Kurdistan Region\, 46001\, Iraq
CATEGORIES:Conference
ATTACH;FMTTYPE=image/heic:https://space21.org/wp-content/uploads/2026/01/UoS_mainhall_25-scaled.jpg
ORGANIZER;CN="SPACE21":MAILTO:info@space21.org
END:VEVENT
BEGIN:VEVENT
DTSTART;TZID=Asia/Baghdad:20260406T200000
DTEND;TZID=Asia/Baghdad:20260406T210000
DTSTAMP:20260420T223630
CREATED:20260224T144203Z
LAST-MODIFIED:20260224T150125Z
UID:9105-1775505600-1775509200@space21.org
SUMMARY:SPACE21 Sound Gallery
DESCRIPTION:SPACE21 Sound Gallery is housed on the second floor of the historic Yellow Building in the old tobacco factory in Slemani. Abandoned after the Kurdish revolution in 1991\, the factory has been reborn as a vibrant cultural hub—a “culture factory”—for the city’s creative makers. The gallery’s hall still holds the scent and spirit of its sonic past\, echoing the labour and stories of those who once worked there\, including the father of SPACE21 founder Hardi Kurda. Stepping into the hall is like entering a living tobacco factory museum\, where the original machines remain as silent witnesses to a bygone era. Today\, instead of producing tobacco\, the space invites listeners and artists to collaborate in the creation of sound. The hall’s resonance calls everyone back to collective work\, transforming industrial memory into an artistic experience—where the sounds of the past inspire new sonic futures
URL:https://space21.org/event/space21-sound-gallery-2/
LOCATION:SPACE21 Sound Gallery\, Culture Factory\, Salim Street\, Sulaymaniyah Governorate\, Kurdistan Region\, 46001\, Iraq
CATEGORIES:Performance
ORGANIZER;CN="SPACE21":MAILTO:info@space21.org
END:VEVENT
BEGIN:VEVENT
DTSTART;TZID=Asia/Baghdad:20260406T130000
DTEND;TZID=Asia/Baghdad:20260406T140000
DTSTAMP:20260420T223630
CREATED:20260122T155911Z
LAST-MODIFIED:20260224T150151Z
UID:7667-1775480400-1775484000@space21.org
SUMMARY:Saray Slemani
DESCRIPTION:SPACE21 revisits the historic Saray Building—Slemani’s oldest government structure\, latera court and financial department—for this year’s festival\, Slemani Sonic Horizon. Once the stage for political and financial change\, the Saray’s walls echo the city’s evolving identity. The festival invites attendees to experience the building through modern listening sessions and discussions\, exploring how Slemani’s sonic landscape has transformed over time and how history resonates beneath the surface
URL:https://space21.org/event/saray-slemani/
LOCATION:Saray Slemani\, Saray Slemani\, Sulaymaniyah Governorate\, Kurdistan Region\, 46001\, Iraq
CATEGORIES:Installation
ATTACH;FMTTYPE=image/jpeg:https://space21.org/wp-content/uploads/2023/03/98FCFD3F-D70F-48AD-85B1-C07BC1551E2F-ts1664248597-e1769097680687.jpg
ORGANIZER;CN="SPACE21":MAILTO:info@space21.org
END:VEVENT
BEGIN:VEVENT
DTSTART;TZID=Asia/Baghdad:20260405T200000
DTEND;TZID=Asia/Baghdad:20260405T210000
DTSTAMP:20260420T223630
CREATED:20251231T161012Z
LAST-MODIFIED:20260224T150203Z
UID:6217-1775419200-1775422800@space21.org
SUMMARY:Mofti Hammam
DESCRIPTION:Hammam Mufti – SPACE21 explores the powerful connection between the sonic memory of the Hammam and the Kurdish audience\, as well as the architectural qualities that make these spaces so acoustically distinctive. The Hammam\, once a vibrant centre of social life in Kurdistan\, holds a deep resonance in both personal and collective memory\, even as its everyday relevance has faded. Its architecture\, with vaulted ceilings\, domes\, and stone surfaces\, creates a unique acoustical environment where sounds linger\, echo\, and envelop visitors. These sonic qualities are not incidental but fundamental to the Hammam’s identity\, shaping how people remember and experience the space. By revisiting the Hammam through the lens of SPACE21’s sound art exhibition\, the audience is invited to listen anew\, engaging with the space not only as a relic of the past but as a living\, resonant environment. The exhibition leverages the Hammam’s particular spatial and acoustic properties to create site-specific works that awaken both memory and sensory perception. This approach foregrounds listening as an active\, communal process\, allowing visitors to reflect on the Hammam’s place in the shifting urban and social fabric of Kurdistan. Ultimately\, the text highlights how sound and architecture together shape cultural memory. The Hammam’s enduring sonic presence offers a way to reconnect with the past\, trace the transformation of cities\, and foster new experiences of listening—making it an essential and cherished space for the SPACE21 community
URL:https://space21.org/event/mofti-hammam/
LOCATION:Mufti Hammam\, گەرماوی موفتی\, Mufti Hammam\, Sabunkaran Street\, Sulaymaniyah Governorate\, Kurdistan Region\, 46001\, Iraq
CATEGORIES:Performance
ATTACH;FMTTYPE=image/png:https://space21.org/wp-content/uploads/2024/02/Hammam.png
ORGANIZER;CN="SPACE21":MAILTO:info@space21.org
END:VEVENT
BEGIN:VEVENT
DTSTART;TZID=Asia/Baghdad:20260405T110000
DTEND;TZID=Asia/Baghdad:20260405T140000
DTSTAMP:20260420T223630
CREATED:20251231T160958Z
LAST-MODIFIED:20260224T150210Z
UID:6215-1775386800-1775397600@space21.org
SUMMARY:Amna Suraka Museum
DESCRIPTION:Amna Suraka Museum (Red Museum) -The next space that SPACE21 intends to revisit for listening\, and to serve as the starting point for this year’s listening walk session\, is Amna Suraka\, the notorious Red Security building. Once a site of immense suffering\, where Kurdish resistance members were detained and tortured during the dictatorship\, Amna Suraka stands as a powerful symbol of both pain and resilience in the collective memory of the city. By beginning the listening walk here\, SPACE21 invites participants to engage deeply with the sonic landscape of a place marked by history. Listening becomes an act of remembrance and empathy\, allowing us to confront the echoes of the past while being present to the sounds of the present. As the city awakens and life unfolds outside the walls of Amna Suraka\, the walk encourages a mindful attention to the transformation and renewal that define the city today. Through this experience\, SPACE21 honours the memory of those who suffered and celebrates the city’s ongoing vitality. The act of listening together in such a charged space becomes a statement of hope and solidarity\, aligning with SPACE21’s mission to foster new ways of experiencing and understanding our shared environments
URL:https://space21.org/event/amna-suraka/
LOCATION:Amna Suraka Museum\, Amna Suraka Museum\, Saeed Kaban Street\, Sulaymaniyah Governorate\, Kurdistan Region\, 46001\, Iraq
CATEGORIES:Listening walk
ATTACH;FMTTYPE=image/jpeg:https://space21.org/wp-content/uploads/2023/03/201812.jpg
ORGANIZER;CN="SPACE21":MAILTO:info@space21.org
END:VEVENT
BEGIN:VEVENT
DTSTART;TZID=Asia/Baghdad:20260404T200000
DTEND;TZID=Asia/Baghdad:20260410T210000
DTSTAMP:20260420T223630
CREATED:20260122T162552Z
LAST-MODIFIED:20260224T150217Z
UID:7682-1775332800-1775854800@space21.org
SUMMARY:SPACE21 Sound Gallery
DESCRIPTION:SPACE21 Sound Gallery is housed on the second floor of the historic Yellow Building in the old tobacco factory in Slemani. Abandoned after the Kurdish revolution in 1991\, the factory has been reborn as a vibrant cultural hub—a “culture factory”—for the city’s creative makers. The gallery’s hall still holds the scent and spirit of its sonic past\, echoing the labour and stories of those who once worked there\, including the father of SPACE21 founder Hardi Kurda. Stepping into the hall is like entering a living tobacco factory museum\, where the original machines remain as silent witnesses to a bygone era. Today\, instead of producing tobacco\, the space invites listeners and artists to collaborate in the creation of sound. The hall’s resonance calls everyone back to collective work\, transforming industrial memory into an artistic experience—where the sounds of the past inspire new sonic futures
URL:https://space21.org/event/space21-sound-gallery/
LOCATION:SPACE21 Sound Gallery\, Culture Factory\, Salim Street\, Sulaymaniyah Governorate\, Kurdistan Region\, 46001\, Iraq
CATEGORIES:Performance
ATTACH;FMTTYPE=image/jpeg:https://space21.org/wp-content/uploads/2025/12/DSF0366-scaled.jpg
ORGANIZER;CN="SPACE21":MAILTO:info@space21.org
END:VEVENT
BEGIN:VEVENT
DTSTART;TZID=Asia/Baghdad:20260404T110000
DTEND;TZID=Asia/Baghdad:20260410T230000
DTSTAMP:20260420T223630
CREATED:20260122T190353Z
LAST-MODIFIED:20260224T144634Z
UID:7804-1775300400-1775862000@space21.org
SUMMARY:Piramerd Poet
DESCRIPTION:Piramerd Poet House – In recent years\, Archive Khanah has found a home in some of Slemani’s most significant cultural landmarks\, each space carrying a unique legacy deeply connected to Kurdish history and intellectual life. We began at Piramerd House\, the residence of the legendary Kurdish author and activist who founded the city’s first publishing house—a beacon for anti-colonial thought and literary innovation. The walls of Piramerd House echo with the voices of resistance and creativity\, making it a fitting setting for safeguarding and sharing the Kurdish Sound Archive
URL:https://space21.org/event/piramerd-poet/
LOCATION:Piramerd Poet\, Peramerd Poet\, Sabunkaran Street\, Sulaymaniyah Governorate\, Kurdistan Region\, 46001\, Iraq
CATEGORIES:Archive
ATTACH;FMTTYPE=image/jpeg:https://space21.org/wp-content/uploads/slider2/AK1-scaled.jpeg
END:VEVENT
BEGIN:VEVENT
DTSTART;TZID=Asia/Baghdad:20260404T110000
DTEND;TZID=Asia/Baghdad:20260410T130000
DTSTAMP:20260420T223630
CREATED:20260122T154021Z
LAST-MODIFIED:20260224T144713Z
UID:7652-1775300400-1775826000@space21.org
SUMMARY:Dr Nebez Museum
DESCRIPTION:Dr Jamal Nebez Museum – Last year\, Archive Khanah moved to the Dr Nebez Museum\, another storied space dedicated to the life and work of one of Kurdistan’s most influential thinkers. Dr Nebez’s decision to devote both his personal archive and his home to future generations reflects a deep commitment to cultural preservation and education. Hosting Archive Khanah in this environment allowed the audience to connect intimately with the sounds and stories that have shaped Kurdish identity. This year\, Archive Khanah invites the public to revisit these remarkable venues and embark on a unique listening journey through the Kurdish Sound Archive. By bringing the archive back to these historically and culturally rich spaces\, we aim to deepen the experience of listening—not just to recorded sounds\, but to the living history embedded in the very fabric of these homes. Through this\, Archive Khanah continues its mission to bridge past and present\, inspiring new connections and understanding through the powerful act of listening
URL:https://space21.org/event/nebez-museum/
LOCATION:Dr Nebez Museum\, Jamal Nebez museum موزەخانەی جەمال نەبەز Nali Street\, Sulaymaniyah Governorate\, Kurdistan Region\, 46001\, Iraq
CATEGORIES:Archive
ATTACH;FMTTYPE=image/jpeg:https://space21.org/wp-content/uploads/2026/01/jamal-nabaz-34-scaled.jpg
ORGANIZER;CN="Archive Khanah":MAILTO:info@khanah.org
END:VEVENT
BEGIN:VEVENT
DTSTART;TZID=Asia/Baghdad:20260403T200000
DTEND;TZID=Asia/Baghdad:20260403T220000
DTSTAMP:20260420T223630
CREATED:20251231T160946Z
LAST-MODIFIED:20260224T165112Z
UID:6213-1775246400-1775253600@space21.org
SUMMARY:Cultural House
DESCRIPTION:The 10th edition of Space21 opens at the House of Culture\, which proudly houses Archive Khanah’s latest collection of audio archives. Continuing its mission to preserve and showcase the Kurdish sound heritage\, Archif Khana’s new interactive project focuses on rare recordings from the 1960s to 2000s\, working with local collectors such as Shuan Oscar and Kamal Haji Saeed. By activating historic sites and fostering new listening experiences\, Space21 has spent ten years as both a festival and a living archive—linking past and present\, and ensuring the Kurdish sound endures for future generation
URL:https://space21.org/event/culture-house/
LOCATION:SPACE21 Sound Gallery\, Culture Factory\, Salim Street\, Sulaymaniyah Governorate\, Kurdistan Region\, 46001\, Iraq
CATEGORIES:Archive
ATTACH;FMTTYPE=image/jpeg:https://space21.org/wp-content/uploads/2024/03/DSCF1773-scaled.jpg
ORGANIZER;CN="Archive Khanah":MAILTO:info@khanah.org
END:VEVENT
END:VCALENDAR