BEGIN:VCALENDAR
VERSION:2.0
PRODID:-//SPACE21 - ECPv6.15.20//NONSGML v1.0//EN
CALSCALE:GREGORIAN
METHOD:PUBLISH
X-ORIGINAL-URL:https://space21.org/ckb/
X-WR-CALDESC:Events for SPACE21
REFRESH-INTERVAL;VALUE=DURATION:PT1H
X-Robots-Tag:noindex
X-PUBLISHED-TTL:PT1H
BEGIN:VTIMEZONE
TZID:Asia/Baghdad
BEGIN:STANDARD
TZOFFSETFROM:+0300
TZOFFSETTO:+0300
TZNAME:+03
DTSTART:20250101T000000
END:STANDARD
END:VTIMEZONE
BEGIN:VEVENT
DTSTART;TZID=Asia/Baghdad:20260410T200000
DTEND;TZID=Asia/Baghdad:20260410T210000
DTSTAMP:20260420T235813
CREATED:20260122T122049Z
LAST-MODIFIED:20260302T161728Z
UID:10579-1775851200-1775854800@space21.org
SUMMARY:Meryem El-Adra
DESCRIPTION:Dêra Meryem a Keçik\, yek ji kevintirîn xanîyên mayî li Silêmanîyê ye. Ev dêra dîrokî ne tenê şahidiyek ji bo mîrateya mîmarî ya bajêr e\, lê di heman demê de arşîveke zindî ya bîra kolektîf e jî. Dîwarên wê yên kevirî yên kevnar û banên wê yên bilind hawîrdorek akustîk a bêhempa diafirînin\, ku dengên herî nerm jî lê dimînin û deng vedidin\, guhdarîkirina kûr vedixwînin. Di nav van dîwaran de\, nifş ji bo îbadet\, raman û civakê kom bûne\, cîh bi muzîk\, dua û çîrokên hevpar tijî dikin. Akustîka cihêreng a dêrê van şopên dengî diparêze\, her gavek\, duayek bi çirp û stranek dike beşek ji tapeseriyek bîranînê ya qat qat. Ji bo mêvanan û civaka herêmî\, ezmûna deng di vê cîhê de kiryarek girêdana bi rabirdûyê re ye – ku cih û bîranîn bi guhdarîkirinê têne vejandin. Dêra Meryem a Keçik wekî bîranînek bihêz radiweste ka mîmarî ne tenê tiştê ku em dibînin\, lê di heman demê de tiştê ku em dibihîzin û tînin bîra xwe jî şekil dide. Bi rêzgirtina ji dîmena deng a wê\, em rêz li ruh û dîroka mayînde ya Silêmanîyê bi xwe digirin.
URL:https://space21.org/ckb/event/meryem-el-adra/
LOCATION:Meryem El Adra\, Meryem of virgin Church کەنیسەی مەریەمی عەزراء\, Parêzgeha Silêmaniyê\, Herêma Kurdistanê\, 46001\, Iraq
CATEGORIES:Birêvebirinî
ATTACH;FMTTYPE=image/jpeg:https://space21.org/wp-content/uploads/slider2/S21F8.jpeg
ORGANIZER;CN="SPACE21":MAILTO:info@space21.org
END:VEVENT
BEGIN:VEVENT
DTSTART;TZID=Asia/Baghdad:20260410T110000
DTEND;TZID=Asia/Baghdad:20260410T180000
DTSTAMP:20260420T235813
CREATED:20260224T144524Z
LAST-MODIFIED:20260302T161731Z
UID:10596-1775818800-1775844000@space21.org
SUMMARY:Galeriya Deng a SPACE21
DESCRIPTION:Galeriya Deng a SPACE21 li qata duyemîn a Avahiya Zer a dîrokî ya li kargeha tûtinê ya kevin a li Silêmaniyê ye. Kargeh\, ku piştî şoreşa Kurdî ya 1991an hatiye terikandin\, wekî navendeke çandî ya zindî – “kargeheke çandê” – ji bo afirînerên afirîner ên bajêr ji nû ve zindî bûye. Hola galeriyê hîn jî bîhn û giyanê rabirdûya xwe ya dengî diparêze\, ked û çîrokên kesên ku carekê li wir xebitîne\, di nav wan de bavê damezrînerê SPACE21 Hardi Kurda jî heye. Ketina holê wek ketina muzexaneyek kargeheke titûnê ya zindî ye\, ku makîneyên resen li wir wekî şahidên bêdeng ên serdemeke berê mane. Îro\, li şûna hilberîna titûnê\, ev mekan guhdar û hunermendan vedixwîne ku di afirandina deng de hevkariyê bikin.     Dengvedana salonê her kesî vedigerîne ser xebata kolektîf\, bîra pîşesaziyê vediguherîne ezmûnek hunerî – ku dengên rabirdûyê îlhama pêşerojên dengî yên nû didin.
URL:https://space21.org/ckb/event/galeriya-deng-a-space21-3/
LOCATION:Galeriya Deng a SPACE21\, Kargeha Çandê\, Kolana Salim\, Parêzgeha Silêmaniyê\, Herêma Kurdistanê\, 46001\, Iraq
CATEGORIES:Civatî
ORGANIZER;CN="SPACE21":MAILTO:info@space21.org
END:VEVENT
BEGIN:VEVENT
DTSTART;TZID=Asia/Baghdad:20260409T200000
DTEND;TZID=Asia/Baghdad:20260409T210000
DTSTAMP:20260420T235813
CREATED:20260122T123404Z
LAST-MODIFIED:20260302T161730Z
UID:10582-1775764800-1775768400@space21.org
SUMMARY:Stûdyoya Paia
DESCRIPTION:Paia Studio bi awayekî bêhempa di hewzek avjeniyê ya giştî ya berê de cih digire\, ku niha veguheriye studyoyek afirîner a zindî ku rêzek çalakiyên çandî mazûvan dike. Îsal\, SPACE21 Paia Studio wekî yek ji cihên festîvala xwe yên nû hilbijartiye\, ji ber ku atmosfera wê ya cihêreng û potansiyela wê ya afirîner nas dike. Têkeliya balkêş a rabirdû û niha ya cihê – dengvedanên av û lîstikê niha rê didin lêgerîna hunerî – paşxaneyek balkêş ji bo îfadeya çandî ya nûjen pêşkêş dike. Ji bo festîvalê\, SPACE21 dê performansek zindî pêşkêş bike ku bi taybetî ji bo dengvedana karakterê Paia Studio hatî çêkirin. Performans dê li ser dîroka malperê wekî cîhek kombûna hevpar bikar bîne\, mijarên veguherîn\, bîranîn û nûjenkirinê vekole. Bi aktîvkirina vê cîhê ji nû ve hatî bikar anîn bi rêya deng û tevgerê\, festîval armanc dike ku hem mîrate û hem jî enerjiya afirîner a nû ya Paia Studio pîroz bike\, temaşevanan vexwîne ku helbesta cihê bi awayekî bi rastî jî kûr biceribînin.
URL:https://space21.org/ckb/event/studyoya-paia/
LOCATION:Stûdyoya Paia\, Stûdyoya PAIA\, Rêya Sarchinar\, Parêzgeha Silêmaniyê\, Herêma Kurdistanê\, 46001\, Iraq
CATEGORIES:Birêvebirinî
ATTACH;FMTTYPE=image/png:https://space21.org/wp-content/uploads/2026/01/PaiaStudio.png
ORGANIZER;CN="SPACE21":MAILTO:info@space21.org
END:VEVENT
BEGIN:VEVENT
DTSTART;TZID=Asia/Baghdad:20260409T110000
DTEND;TZID=Asia/Baghdad:20260409T140000
DTSTAMP:20260420T235813
CREATED:20260224T145811Z
LAST-MODIFIED:20260302T161733Z
UID:10614-1775732400-1775743200@space21.org
SUMMARY:Zanîngeha Silêmaniyê
DESCRIPTION:SPACE21 konferansa sê rojî ya Slemani Sonic Horizon bi hevkariya Zanîngeha Silêmaniyê pêşkêş dike. Wekî beşek ji 10emîn çapa festîvalê\, konferans li ser çanda dengî ya bajêr axaftin û panelan pêşkêş dike. Xaleke girîng rûniştina Engaging the Next Generation e\, ku sêwiran û encamên Atolyeyên Ciwanan ên SPACE21-ê parve dike ku ciwanan hêzdar dike ku biafirînin\, guhdarî bikin û performansê bikin.   Ev çalakî dê li ser pedagojiya tevlêker\, domdarî û beşdariya ciwanan di şekildana peyzaja dengî ya Silêmaniyê de bikole.
URL:https://space21.org/ckb/event/zaningeha-silemaniye-3/
LOCATION:Galeriya Deng a SPACE21\, Kargeha Çandê\, Kolana Salim\, Parêzgeha Silêmaniyê\, Herêma Kurdistanê\, 46001\, Iraq
CATEGORIES:Şêwre
ORGANIZER;CN="SPACE21":MAILTO:info@space21.org
END:VEVENT
BEGIN:VEVENT
DTSTART;TZID=Asia/Baghdad:20260408T200000
DTEND;TZID=Asia/Baghdad:20260408T210000
DTSTAMP:20260420T235813
CREATED:20260224T144244Z
LAST-MODIFIED:20260302T161731Z
UID:10593-1775678400-1775682000@space21.org
SUMMARY:Galeriya Deng a SPACE21
DESCRIPTION:Galeriya Deng a SPACE21 li qata duyemîn a Avahiya Zer a dîrokî ya li kargeha tûtinê ya kevin a li Silêmaniyê ye. Kargeh\, ku piştî şoreşa Kurdî ya 1991an hatiye terikandin\, wekî navendeke çandî ya zindî – “kargeheke çandê” – ji bo afirînerên afirîner ên bajêr ji nû ve zindî bûye. Hola galeriyê hîn jî bîhn û giyanê rabirdûya xwe ya dengî diparêze\, ked û çîrokên kesên ku carekê li wir xebitîne\, di nav wan de bavê damezrînerê SPACE21 Hardi Kurda jî heye. Ketina holê wek ketina muzexaneyek kargeheke titûnê ya zindî ye\, ku makîneyên resen li wir wekî şahidên bêdeng ên serdemeke berê mane. Îro\, li şûna hilberîna titûnê\, ev mekan guhdar û hunermendan vedixwîne ku di afirandina deng de hevkariyê bikin.     Dengvedana salonê her kesî vedigerîne ser xebata kolektîf\, bîra pîşesaziyê vediguherîne ezmûnek hunerî – ku dengên rabirdûyê îlhama pêşerojên dengî yên nû didin.
URL:https://space21.org/ckb/event/galeriya-deng-a-space21-2/
LOCATION:Herêma Kurdistanê
CATEGORIES:Birêvebirinî
END:VEVENT
BEGIN:VEVENT
DTSTART;TZID=Asia/Baghdad:20260408T110000
DTEND;TZID=Asia/Baghdad:20260408T140000
DTSTAMP:20260420T235813
CREATED:20260224T145732Z
LAST-MODIFIED:20260302T161731Z
UID:10607-1775646000-1775656800@space21.org
SUMMARY:Zanîngeha Silêmaniyê
DESCRIPTION:SPACE21 konferansa sê rojî ya Slemani Sonic Horizon bi hevkariya Zanîngeha Silêmaniyê pêşkêş dike. Wekî beşek ji 10emîn çapa festîvalê\, konferans li ser çanda dengî ya bajêr axaftin û panelan pêşkêş dike. Xaleke girîng rûniştina Engaging the Next Generation e\, ku sêwiran û encamên Atolyeyên Ciwanan ên SPACE21-ê parve dike ku ciwanan hêzdar dike ku biafirînin\, guhdarî bikin û performansê bikin.   Ev çalakî dê li ser pedagojiya tevlêker\, domdarî û beşdariya ciwanan di şekildana peyzaja dengî ya Silêmaniyê de bikole.
URL:https://space21.org/ckb/event/zaningeha-silemaniye-2/
LOCATION:Galeriya Deng a SPACE21\, Kargeha Çandê\, Kolana Salim\, Parêzgeha Silêmaniyê\, Herêma Kurdistanê\, 46001\, Iraq
CATEGORIES:Şêwre
ORGANIZER;CN="SPACE21":MAILTO:info@space21.org
END:VEVENT
BEGIN:VEVENT
DTSTART;TZID=Asia/Baghdad:20260407T180000
DTEND;TZID=Asia/Baghdad:20260407T200000
DTSTAMP:20260420T235813
CREATED:20251231T160930Z
LAST-MODIFIED:20260302T161727Z
UID:10568-1775584800-1775592000@space21.org
SUMMARY:Gera Otobusê
DESCRIPTION:Gera Otobusê – Ezmûneke guhdarîkirina radyoyê ya kolektîf li ser gera otobusa bajêr. Bi veguherandina otobusê bo cîhek pêşangehê ya tevgerbar\, beşdar dê xwe bigihînin peyzaja frekansên radyoyê ku demek dirêj bîra civakî ya bajarên Kurdistanê şekil daye. Bi rêya weşanên kurkirî – perçeyên nûçeyan\, stranên rizgariyê û dengên ji rabirdûyê – ger atmosfera bêhempa ya guhdarîkirina komunal ku carekê jiyana rojane di otobusên Kurdî de diyar dikir\, vejîne. Di dîrokê de\, otobus ji veguhastinê pir zêdetir bûn; ew cîhên civakî yên zindî bûn ku mirov çîrokan diguherandin\, nûçeyan parve dikirin û li hev dinihêrîn. Bi pêşkeftina aborî re\, ev çanda otobusê winda bûye\, û kiryara guhdarîkirina komunal cihê xwe di jiyana bajarî de winda kiriye. Bi kombûna li ser otobusê da ku bi hev re guhdarî bikin\, bûyer hestek lênêrîn û baldariya kolektîf ji nû ve geş dike\, girîngiya guhdarîkirina hevbeş di pêşxistina yekîtî û têgihîştinê de ji me re tîne bîra xwe – nemaze di demên ku civaka Kurd hewce dike ku wekî yek deng û yek guh werin cem hev. Ev gera guhdarîkirina radyoyê beşdaran vedixwîne ku hêza guhdarîkirinê ji nû ve kifş bikin û cîhê giştî ji bo girêdana çandî û ramanê vegerînin.
URL:https://space21.org/ckb/event/gera-otobuse/
LOCATION:Îstgeha otobusê ya Serçnar\, Otogara Serçnar\, Silêmanî\, Parêzgeha Silêmaniyê\, Herêma Kurdistanê\, 46001\, Iraq
CATEGORIES:Radyo
ATTACH;FMTTYPE=image/jpeg:https://space21.org/wp-content/uploads/2026/01/SPACE21-Radio-Bus-Workshop-25_Photo-by-Emptyblue-scaled.jpg
ORGANIZER;CN="SPACE21":MAILTO:info@space21.org
END:VEVENT
BEGIN:VEVENT
DTSTART;TZID=Asia/Baghdad:20260407T110000
DTEND;TZID=Asia/Baghdad:20260409T140000
DTSTAMP:20260420T235813
CREATED:20260122T162125Z
LAST-MODIFIED:20260302T161731Z
UID:10600-1775559600-1775743200@space21.org
SUMMARY:Zanîngeha Silêmaniyê
DESCRIPTION:SPACE21 konferansa sê rojî ya Slemani Sonic Horizon bi hevkariya Zanîngeha Silêmaniyê pêşkêş dike. Wekî beşek ji 10emîn çapa festîvalê\, konferans li ser çanda dengî ya bajêr axaftin û panelan pêşkêş dike. Xaleke girîng rûniştina Engaging the Next Generation e\, ku sêwiran û encamên Atolyeyên Ciwanan ên SPACE21-ê parve dike ku ciwanan hêzdar dike ku biafirînin\, guhdarî bikin û performansê bikin.   Ev çalakî dê li ser pedagojiya tevlêker\, domdarî û beşdariya ciwanan di şekildana peyzaja dengî ya Silêmaniyê de bikole.
URL:https://space21.org/ckb/event/zaningeha-silemaniye/
LOCATION:Zanîngeha Silêmaniyê\, Zanîngeha Silêmaniyê\, Parêzgeha Silêmaniyê\, Herêma Kurdistanê\, 46001\, Iraq
CATEGORIES:Şêwre
ATTACH;FMTTYPE=image/heic:https://space21.org/wp-content/uploads/2026/01/UoS_mainhall_25-scaled.jpg
ORGANIZER;CN="SPACE21":MAILTO:info@space21.org
END:VEVENT
BEGIN:VEVENT
DTSTART;TZID=Asia/Baghdad:20260406T200000
DTEND;TZID=Asia/Baghdad:20260406T210000
DTSTAMP:20260420T235813
CREATED:20260224T144203Z
LAST-MODIFIED:20260302T161730Z
UID:10588-1775505600-1775509200@space21.org
SUMMARY:Galeriya Deng a SPACE21
DESCRIPTION:Galeriya Deng a SPACE21 li qata duyemîn a Avahiya Zer a dîrokî ya li kargeha tûtinê ya kevin a li Silêmaniyê ye. Kargeh\, ku piştî şoreşa Kurdî ya 1991an hatiye terikandin\, wekî navendeke çandî ya zindî – “kargeheke çandê” – ji bo afirînerên afirîner ên bajêr ji nû ve zindî bûye. Hola galeriyê hîn jî bîhn û giyanê rabirdûya xwe ya dengî diparêze\, ked û çîrokên kesên ku carekê li wir xebitîne\, di nav wan de bavê damezrînerê SPACE21 Hardi Kurda jî heye.   Ketina holê wek ketina muzexaneyek kargeheke titûnê ya zindî ye\, ku makîneyên resen li wir wekî şahidên bêdeng ên serdemeke berê mane. Îro\, li şûna hilberîna titûnê\, ev mekan guhdar û hunermendan vedixwîne ku di afirandina deng de hevkariyê bikin. Dengvedana salonê her kesî vedigerîne ser xebata kolektîf\, bîra pîşesaziyê vediguherîne ezmûnek hunerî – ku dengên rabirdûyê îlhama pêşerojên dengî yên nû didin.
URL:https://space21.org/ckb/event/galeriya-deng-a-space21/
LOCATION:Galeriya Deng a SPACE21\, Kargeha Çandê\, Kolana Salim\, Parêzgeha Silêmaniyê\, Herêma Kurdistanê\, 46001\, Iraq
CATEGORIES:Birêvebirinî
ORGANIZER;CN="SPACE21":MAILTO:info@space21.org
END:VEVENT
BEGIN:VEVENT
DTSTART;TZID=Asia/Baghdad:20260406T130000
DTEND;TZID=Asia/Baghdad:20260406T140000
DTSTAMP:20260420T235813
CREATED:20260122T155911Z
LAST-MODIFIED:20260302T161731Z
UID:10595-1775480400-1775484000@space21.org
SUMMARY:Saray Silêmanî
DESCRIPTION:SPACE21 ji bo festîvala îsal\, Slemani Sonic Horizon\, ji nû ve serdana Avahiya Sarayê ya dîrokî dike – avahiya hikûmetê ya herî kevin a Silêmaniyê\, dadgeha laterayê û beşa darayî. Dîwarên Sarayê\, ku berê dikana guhertinên siyasî û darayî bûn\, nasnameya bajar a pêşkeftî nîşan didin. Festîval beşdaran vedixwîne ku bi rêya danişînên guhdarîkirinê û nîqaşên nûjen avahiyê biceribînin\, lêkolîn bikin ka peyzaja dengî ya Silêmaniyê bi demê re çawa guheriye û dîrok çawa di bin rûyê erdê de deng vedide.
URL:https://space21.org/ckb/event/saray-silemani/
LOCATION:Saray Silêmanî\, Saray Silêmanî\, Parêzgeha Silêmaniyê\, Herêma Kurdistanê\, 46001\, Iraq
CATEGORIES:Lêkirinî
ATTACH;FMTTYPE=image/jpeg:https://space21.org/wp-content/uploads/2023/03/98FCFD3F-D70F-48AD-85B1-C07BC1551E2F-ts1664248597-e1769097680687.jpg
ORGANIZER;CN="SPACE21":MAILTO:info@space21.org
END:VEVENT
BEGIN:VEVENT
DTSTART;TZID=Asia/Baghdad:20260405T200000
DTEND;TZID=Asia/Baghdad:20260405T210000
DTSTAMP:20260420T235814
CREATED:20251231T161012Z
LAST-MODIFIED:20260302T161727Z
UID:10563-1775419200-1775422800@space21.org
SUMMARY:Hemama Moftiyê
DESCRIPTION:Muftiyê Hemamê – SPACE21 girêdana bihêz a di navbera bîra dengî ya Hemamê û temaşevanên Kurd de\, û her weha taybetmendiyên mîmarî yên ku van cihan ji hêla akustîk ve ewqas cihêreng dikin vedikole. Hemam\, ku carekê navendek zindî ya jiyana civakî li Kurdistanê bû\, di hem bîra kesane û hem jî ya kolektîf de dengvedanek kûr digire\, her çend girîngiya wê ya rojane winda bûye jî. Mîmariya wê\, bi banên bilind\, qubbe û rûyên kevirî\, hawîrdorek akustîk a bêhempa diafirîne ku deng lê dimînin\, deng vedidin û mêvanan dorpêç dikin. Ev taybetmendiyên dengî ne tesadufî ne lê bingehîn in ji bo nasnameya Hemamê\, ku awayê bîranîn û ezmûna mirovan şekil didin. Bi vegerandina Hemamê bi rêya pêşangeha hunera deng a SPACE21\, temaşevan têne vexwendin ku ji nû ve guhdarî bikin\, ne tenê wekî bermahiyek rabirdûyê lê wekî hawîrdorek zindî û dengvedan bi cîhê re mijûl bibin. Pêşangeh taybetmendiyên cîhî û akustîk ên taybetî yên Hemamê bikar tîne da ku berhemên taybetî yên cîhê biafirîne ku hem bîr û hem jî têgihîştina hestî şiyar dikin. Ev rêbaz guhdarîkirinê wekî pêvajoyek çalak û civakî dide pêş\, û dihêle ku mêvan li ser cihê Hemamê di nav tevna bajarî û civakî ya guherbar a Kurdistanê de bifikirin. Di dawiyê de\, nivîs destnîşan dike ka deng û mîmarî çawa bi hev re bîra çandî şekil didin. Hebûna dengî ya mayînde ya Hemamê rêyek pêşkêşî dike ku bi rabirdûyê ve ji nû ve were girêdan\, veguherîna bajaran were şopandin\, û ezmûnên nû yên guhdarîkirinê werin pêşxistin – ew ji bo civaka SPACE21 cîhek girîng û hêja ye.
URL:https://space21.org/ckb/event/hemama-moftiye/
LOCATION:Hemama Muftiyê\, گەرماوی موفتی\, Muftî Hemam\, Kolana Sabunkaran\, Parêzgeha Silêmaniyê\, Herêma Kurdistanê\, 46001\, Iraq
CATEGORIES:Birêvebirinî
ATTACH;FMTTYPE=image/png:https://space21.org/wp-content/uploads/2024/02/Hammam.png
ORGANIZER;CN="SPACE21":MAILTO:info@space21.org
END:VEVENT
BEGIN:VEVENT
DTSTART;TZID=Asia/Baghdad:20260405T110000
DTEND;TZID=Asia/Baghdad:20260405T140000
DTSTAMP:20260420T235814
CREATED:20251231T160958Z
LAST-MODIFIED:20260302T161726Z
UID:10556-1775386800-1775397600@space21.org
SUMMARY:Muzexaneya Amna Suraka
DESCRIPTION:Muzexaneya Amna Suraka (Muzeya Sor) – Cihê din ku SPACE21 dixwaze ji bo guhdarîkirinê dîsa serdana wê bike û wekî xala destpêkê ji bo rûniştina meşa guhdarîkirinê ya îsal xizmet bike\, Amna Suraka ye\, avahiya Ewlekariya Sor a navdar. Amna Suraka\, ku carekê cihekî êşên mezin lê hebûn\, ku endamên berxwedana Kurd di dema dîktatoriyê de dihatin girtin û îşkencekirin\, di bîra kolektîf a bajêr de wekî sembolek bihêz a hem êş û hem jî berxwedanê radiweste. Bi destpêkirina meşa guhdarîkirinê li vir\, SPACE21 beşdaran vedixwîne ku bi kûrahî bi dîmena dengî ya cihekî ku bi dîrokê ve hatiye nîşankirin re mijûl bibin. Guhdarîkirin dibe kiryarek bîranîn û empatiyê\, dihêle ku em bi dengvedanên rabirdûyê re rû bi rû bimînin dema ku em li dengên niha amade ne. Her ku bajar şiyar dibe û jiyan li derveyî dîwarên Amna Suraka vedibe\, meş baldariyek hişmend li ser veguherîn û nûjenkirina ku îro bajêr diyar dike teşwîq dike. Bi saya vê ezmûnê\, SPACE21 bîranîna kesên ku êş kişandine rêz digire û zindîtiya berdewam a bajêr pîroz dike. Guhdarîkirina bi hev re di qadeke ewqas barkirî de dibe daxuyaniyek hêvî û hevgirtinê\, ku li gorî mîsyona SPACE21-ê ye ku rêbazên nû yên ezmûn û têgihîştina jîngehên me yên hevpar pêş bixe.
URL:https://space21.org/ckb/event/muzexaneya-amna-suraka/
LOCATION:Muzexaneya Amna Suraka\, Muzeya Amna Suraka\, Kolana Seîd Kaban\, Parêzgeha Silêmaniyê\, Herêma Kurdistanê\, 46001\, Iraq
CATEGORIES:Meşa guhdarîkirinê
ATTACH;FMTTYPE=image/jpeg:https://space21.org/wp-content/uploads/2023/03/201812.jpg
ORGANIZER;CN="SPACE21":MAILTO:info@space21.org
END:VEVENT
BEGIN:VEVENT
DTSTART;TZID=Asia/Baghdad:20260404T200000
DTEND;TZID=Asia/Baghdad:20260410T210000
DTSTAMP:20260420T235814
CREATED:20260122T162552Z
LAST-MODIFIED:20260302T161731Z
UID:10609-1775332800-1775854800@space21.org
SUMMARY:Galeriya Deng a SPACE21
DESCRIPTION:Galeriya Deng a SPACE21 li qata duyemîn a Avahiya Zer a dîrokî ya li kargeha tûtinê ya kevin a li Silêmaniyê ye. Kargeh\, ku piştî şoreşa Kurdî ya 1991an hatiye terikandin\, wekî navendeke çandî ya zindî – “kargeheke çandê” – ji bo afirînerên afirîner ên bajêr ji nû ve zindî bûye. Hola galeriyê hîn jî bîhn û giyanê rabirdûya xwe ya dengî diparêze\, ked û çîrokên kesên ku carekê li wir xebitîne\, di nav wan de bavê damezrînerê SPACE21 Hardi Kurda jî heye. Ketina holê wek ketina muzexaneyek kargeheke titûnê ya zindî ye\, ku makîneyên resen li wir wekî şahidên bêdeng ên serdemeke berê mane. Îro\, li şûna hilberîna titûnê\, ev mekan guhdar û hunermendan vedixwîne ku di afirandina deng de hevkariyê bikin.     Dengvedana salonê her kesî vedigerîne ser xebata kolektîf\, bîra pîşesaziyê vediguherîne ezmûnek hunerî – ku dengên rabirdûyê îlhama pêşerojên dengî yên nû didin.
URL:https://space21.org/ckb/event/galeriya-deng-a-space21-4/
LOCATION:Galeriya Deng a SPACE21\, Kargeha Çandê\, Kolana Salim\, Parêzgeha Silêmaniyê\, Herêma Kurdistanê\, 46001\, Iraq
CATEGORIES:Birêvebirinî
ATTACH;FMTTYPE=image/jpeg:https://space21.org/wp-content/uploads/2025/12/DSF0366-scaled.jpg
ORGANIZER;CN="SPACE21":MAILTO:info@space21.org
END:VEVENT
BEGIN:VEVENT
DTSTART;TZID=Asia/Baghdad:20260404T110000
DTEND;TZID=Asia/Baghdad:20260410T230000
DTSTAMP:20260420T235814
CREATED:20260122T190353Z
LAST-MODIFIED:20260302T161730Z
UID:10583-1775300400-1775862000@space21.org
SUMMARY:Helbestvanê Pîramêrd
DESCRIPTION:Mala Helbestvanên Piramerd – Di salên dawî de\, Arşîva Xanah li hin ji deverên çandî yên herî girîng ên Silêmaniyê cîhekî xwe dîtiye\, her cihek mîrateyek bêhempa hildigire ku bi dîrok û jiyana rewşenbîrî ya Kurdî ve girêdayî ye. Me li Piramerd House dest pê kir\, mala nivîskar û çalakvanê efsanewî yê Kurd ku yekem weşanxaneya bajêr damezrand – çirayek ji bo ramana dij-kolonyal û nûjeniya wêjeyî. Dîwarên Mala Piramerd bi dengên berxwedan û afirîneriyê deng vedidin\, û ew ji bo parastin û parvekirina Arşîva Dengê Kurdî cihekî guncaw e.
URL:https://space21.org/ckb/event/helbestvane-piramerd/
LOCATION:Helbestvanê Pîramêrd\, Helbestvanê Peramerd\, Kolana Sabunkaran\, Parêzgeha Silêmaniyê\, Herêma Kurdistanê\, 46001\, Iraq
CATEGORIES:Arşîv
ATTACH;FMTTYPE=image/jpeg:https://space21.org/wp-content/uploads/slider2/AK1-scaled.jpeg
END:VEVENT
BEGIN:VEVENT
DTSTART;TZID=Asia/Baghdad:20260404T110000
DTEND;TZID=Asia/Baghdad:20260410T130000
DTSTAMP:20260420T235814
CREATED:20260122T154021Z
LAST-MODIFIED:20260302T161730Z
UID:10590-1775300400-1775826000@space21.org
SUMMARY:Muzexaneya Dr. Nebez
DESCRIPTION:Muzexaneya Dr. Cemal Nebez – Par\, Arşîva Xanah koçî Muzexaneya Dr. Nebez kir\, cîhekî din ê çîrokî ku ji bo jiyan û xebata yek ji ramanwerên herî bi bandor ên Kurdistanê hatiye veqetandin. Biryara Dr. Nebez a veqetandina hem arşîva xwe ya kesane û hem jî mala xwe ji bo nifşên pêşerojê pabendbûnek kûr a ji bo parastina çandî û perwerdehiyê nîşan dide. Mêvandariya Arşîva Xanah di vê hawîrdorê de rê da temaşevanan ku bi deng û çîrokên ku nasnameya Kurdî şekil dane ve girêdayî bibin. Îsal\, Arşîva Xanah raya giştî vedixwîne ku van cihên berbiçav ji nû ve bibînin û rêwîtiyek guhdarîkirinê ya bêhempa bi rêya Arşîva Dengê Kurdî bikin. Bi vegera arşîvê bo van deverên dewlemend ên dîrokî û çandî\, em armanc dikin ku ezmûna guhdarîkirinê kûrtir bikin – ne tenê ji bo dengên tomarkirî\, lê ji bo dîroka zindî ya ku di nav tevna van malan de cih digire. Bi vê yekê\, Arşîva Xanah mîsyona xwe ya girêdana pira rabirdû û niha didomîne\, bi riya çalakiya bihêz a guhdarîkirinê girêdan û têgihîştina nû îlham dike.
URL:https://space21.org/ckb/event/muzexaneya-dr-nebez/
LOCATION:Muzexaneya Dr. Nebez\, Cemal Nebez muzexane موزەخانەی جەمال نەبەز Nali Street\, Parêzgeha Silêmaniyê\, Herêma Kurdistanê\, 46001\, Iraq
CATEGORIES:Arşîv
ATTACH;FMTTYPE=image/jpeg:https://space21.org/wp-content/uploads/2026/01/jamal-nabaz-34-scaled.jpg
ORGANIZER;CN="Ar%C5%9F%C3%AEv Xanah":MAILTO:info@khanah.org
END:VEVENT
BEGIN:VEVENT
DTSTART;TZID=Asia/Baghdad:20260403T200000
DTEND;TZID=Asia/Baghdad:20260403T220000
DTSTAMP:20260420T235814
CREATED:20251231T160946Z
LAST-MODIFIED:20260302T161728Z
UID:10574-1775246400-1775253600@space21.org
SUMMARY:Mala Çandî
DESCRIPTION:Çapa 10emîn a Space21 li Mala Çandê vedibe\, ku bi serbilindî berhevoka herî dawî ya arşîvên dengî yên Archive Khanah dihewîne. Projeya nû ya înteraktîf a Archif Khana\, bi berdewamiya mîsyona xwe ya parastin û nîşandana mîrata dengî ya Kurdî\, li ser tomarên kêm ên ji salên 1960an heta 2000an disekine\, û bi koleksiyonerên herêmî yên wekî Shuan Oscar û Kamal Haji Saeed re dixebite. Bi çalakkirina deverên dîrokî û pêşxistina ezmûnên guhdarîkirinê yên nû\, Space21 deh sal in hem wekî festîvalek û hem jî wekî arşîvek zindî derbas kiriye – rabirdû û niha bi hev ve girêdide\, û piştrast dike ku dengê Kurdî ji bo nifşê pêşerojê dom dike.
URL:https://space21.org/ckb/event/mala-candi/
LOCATION:Galeriya Deng a SPACE21\, Kargeha Çandê\, Kolana Salim\, Parêzgeha Silêmaniyê\, Herêma Kurdistanê\, 46001\, Iraq
CATEGORIES:Arşîv
ATTACH;FMTTYPE=image/jpeg:https://space21.org/wp-content/uploads/2024/03/DSCF1773-scaled.jpg
ORGANIZER;CN="Ar%C5%9F%C3%AEv Xanah":MAILTO:info@khanah.org
END:VEVENT
END:VCALENDAR