BEGIN:VCALENDAR
VERSION:2.0
PRODID:-//SPACE21 - ECPv6.15.20//NONSGML v1.0//EN
CALSCALE:GREGORIAN
METHOD:PUBLISH
X-WR-CALNAME:SPACE21
X-ORIGINAL-URL:https://space21.org/ckb/
X-WR-CALDESC:Events for SPACE21
REFRESH-INTERVAL;VALUE=DURATION:PT1H
X-Robots-Tag:noindex
X-PUBLISHED-TTL:PT1H
BEGIN:VTIMEZONE
TZID:Asia/Baghdad
BEGIN:STANDARD
TZOFFSETFROM:+0300
TZOFFSETTO:+0300
TZNAME:+03
DTSTART:20250101T000000
END:STANDARD
END:VTIMEZONE
BEGIN:VEVENT
DTSTART;TZID=Asia/Baghdad:20260324T110000
DTEND;TZID=Asia/Baghdad:20260429T140000
DTSTAMP:20260420T224631
CREATED:20260122T002800Z
LAST-MODIFIED:20260302T164603Z
UID:10576-1774350000-1777471200@space21.org
SUMMARY:Kargeh Ciwanan
DESCRIPTION:Wekî beşek ji 10emîn Festîvala SPACE21 li Silêmaniyê\, Komxebata Ciwanan pratîka deng bi hişmendiya jîngehê\, ramana arkeolojîk û têgihîştina mîmarî ve girêdide\, û dihêle ku beşdar guhdarîkirin û çêkirina deng wekî amûrên ji bo keşifkirina cih\, dîrok û fezayê fêm bikin. \n1. Meşên Guhdarîkirinê — Jîngeh · Arkeolojî · Cihê Bajarî: Meşên guhdarîkirinê beşdaran vedixwînin ku bi guhdarîkirina bi baldarî bajarê Silêmaniyê keşif bikin\, û bajêr wekî peyzajek dengî ya zindî bihesibînin. \n2. Berhevoka Afirîner — Vegotinên Dengî · Nexşeya Çandî: Beşdar ramanên xwe diguherînin berhemên muzîkê yên birêkûpêk\, deng bi cih\, bîr û xeyalê ve girêdidin. \n3. Çêkirina Deng û Avakirina Amûran — Pratîka Ceribandinê: Bi karanîna materyalên hêsan û teknolojiyên gihîştî\, beşdar amûr û cîhazên deng çêdikin. \n4. Danişînên Împrovîzasyonê — Cihê Civakî · Bîra Kolektîf · Têkiliya Fezayî: Împrovîzasyon bi rêya çêkirina dengan di wextê rast de bawerî\, bersivdayîn û hişmendiya hevkariyê pêş dixe. \n\nFînansmana ji bo Projeyên Ciwanan ji hêla Weqfa Muzîkê ya Ernst von Siemens ve
URL:https://space21.org/ckb/event/komxebata-ciwanan/
LOCATION:Galeriya Deng a SPACE21\, Kargeha Çandê\, Kolana Salim\, Parêzgeha Silêmaniyê\, Herêma Kurdistanê\, 46001\, Iraq
CATEGORIES:Kargeh
ATTACH;FMTTYPE=image/jpeg:https://space21.org/wp-content/uploads/2026/01/SPACE21-Workshop-and-Performance-22_1_Photo-by-NigaSalam-scaled.jpg
ORGANIZER;CN="SPACE21":MAILTO:info@space21.org
END:VEVENT
END:VCALENDAR